BEGIN:VCALENDAR
VERSION:2.0
PRODID:DPCALENDAR
CALSCALE:GREGORIAN
BEGIN:VTIMEZONE
TZID:Europe/Tallinn
BEGIN:STANDARD
DTSTART:20251026T010000
TZOFFSETFROM:+0300
TZOFFSETTO:+0200
TZNAME:EET
END:STANDARD
BEGIN:STANDARD
DTSTART:20261025T010000
TZOFFSETFROM:+0300
TZOFFSETTO:+0200
TZNAME:EET
END:STANDARD
BEGIN:DAYLIGHT
DTSTART:20260329T010000
TZOFFSETFROM:+0200
TZOFFSETTO:+0300
TZNAME:EEST
END:DAYLIGHT
END:VTIMEZONE
X-WR-TIMEZONE:Europe/Tallinn
BEGIN:VEVENT
DTSTART;TZID=Europe/Tallinn:20230901T100000
DTEND;TZID=Europe/Tallinn:20230901T110000
UID:387E3C3D-0E57-4CB7-A6F8-D08F56F4E90B
SUMMARY:Kehtna Põhikooli 23/24 õppeaasta avaaktus
CREATED:20230825T080317Z
DTSTAMP:20230825T080317Z
URL:https://kehtnakool.ee/component/dpcalendar/event/1?calid=9
X-ACCESS:1
X-HITS:38
X-COLOR:3366cc
X-IMAGE-FULL:https://kehtnakool.ee/images/KALENDER/2023/KK_avaaktus_23-24.jpg
X-SHOW-END-TIME:0
END:VEVENT
BEGIN:VEVENT
DTSTART;VALUE=DATE:20231031
DTEND;VALUE=DATE:20231101
UID:7680AD3E-167F-401D-8EBF-22F915FBA598
SUMMARY:Halloween
CREATED:20231030T063911Z
DTSTAMP:20231030T063911Z
URL:https://kehtnakool.ee/component/dpcalendar/event/2?calid=9
X-ACCESS:1
X-HITS:57
X-COLOR:3366cc
X-SHOW-END-TIME:1
END:VEVENT
BEGIN:VEVENT
DTSTART;VALUE=DATE:20231101
DTEND;VALUE=DATE:20231102
UID:43E5A17C-AD24-41FE-ABD6-2F2642A73B30
SUMMARY:Klasside pildistamine
CREATED:20231030T063937Z
DTSTAMP:20231030T063937Z
URL:https://kehtnakool.ee/component/dpcalendar/event/3?calid=9
X-ACCESS:1
X-HITS:87
X-COLOR:3366cc
X-SHOW-END-TIME:1
END:VEVENT
BEGIN:VEVENT
DTSTART;TZID=Europe/Tallinn:20231220T180000
DTEND;TZID=Europe/Tallinn:20231220T193000
UID:C6F91511-341D-442E-A4F0-DE6F27F43EB8
SUMMARY:Kehtna Põhikooli jõulupidu
CREATED:20231211T110011Z
DTSTAMP:20231211T110011Z
URL:https://kehtnakool.ee/component/dpcalendar/event/4?calid=9
DESCRIPTION:Kehtna Põhikooli jõulupidu toimub 20.detsembril algusega kell 18.00 Kehtna Kutsehariduskeskuse peamajas.
X-ALT-DESC;FMTTYPE=text/html:<p>Kehtna Põhikooli jõulupidu toimub 20.detsembril algusega kell 18.00 Kehtna Kutsehariduskeskuse peamajas.</p>
LAST-MODIFIED:20231211T110550Z
SEQUENCE:339
X-ACCESS:1
X-HITS:83
X-COLOR:3366cc
X-IMAGE-FULL:https://kehtnakool.ee/images/jõulupidu.png
X-IMAGE-INTRO:https://kehtnakool.ee/images/jõulupidu.png
X-SHOW-END-TIME:1
END:VEVENT
BEGIN:VEVENT
DTSTART;TZID=Europe/Tallinn:20240319T110000
DTEND;TZID=Europe/Tallinn:20240319T120000
UID:31563EE5-FF99-4388-85BD-7967C54651F0
SUMMARY:Kristiina Ehin ja Sander Sepp
CREATED:20240318T081547Z
DTSTAMP:20240318T081547Z
URL:https://kehtnakool.ee/component/dpcalendar/event/5?calid=9
X-ACCESS:1
X-HITS:23
X-COLOR:3366cc
X-SHOW-END-TIME:1
END:VEVENT
BEGIN:VEVENT
DTSTART;TZID=Europe/Tallinn:20240321T180000
DTEND;TZID=Europe/Tallinn:20240321T200000
UID:A5995B88-BC1D-4E9B-AD5C-0172C4ED2701
SUMMARY:Moebläkk Kehtna KHK-s
CREATED:20240318T081721Z
DTSTAMP:20240318T081721Z
URL:https://kehtnakool.ee/component/dpcalendar/event/6?calid=9
X-ACCESS:1
X-HITS:72
X-COLOR:3366cc
X-SHOW-END-TIME:1
END:VEVENT
BEGIN:VEVENT
DTSTART;TZID=Europe/Tallinn:20240328T080000
DTEND;TZID=Europe/Tallinn:20240328T150000
UID:F04641B2-3491-4AB3-8130-CC16B997E944
SUMMARY:Stiilipäev "Oh sa pühademuna!"
CREATED:20240318T081910Z
DTSTAMP:20240318T081910Z
URL:https://kehtnakool.ee/component/dpcalendar/event/7?calid=9
X-ACCESS:1
X-HITS:67
X-COLOR:3366cc
X-SHOW-END-TIME:1
END:VEVENT
BEGIN:VEVENT
DTSTART;TZID=Europe/Tallinn:20240403T133000
DTEND;TZID=Europe/Tallinn:20240403T150000
UID:77B130C4-6D83-42A3-88CB-7433B88F996B
SUMMARY:Tarmo Tuule koolimaja aulas
CREATED:20240318T082052Z
DTSTAMP:20240318T082052Z
URL:https://kehtnakool.ee/component/dpcalendar/event/8?calid=9
X-ACCESS:1
X-HITS:113
X-COLOR:3366cc
X-SHOW-END-TIME:1
END:VEVENT
BEGIN:VEVENT
DTSTART;TZID=Europe/Tallinn:20240417T090000
DTEND;TZID=Europe/Tallinn:20240417T143000
UID:31F2C875-8411-46D7-A335-627B0A4B8C38
SUMMARY:Kooli ümbruse koristamine
CREATED:20240416T122204Z
DTSTAMP:20240416T122204Z
URL:https://kehtnakool.ee/component/dpcalendar/event/10?calid=9
X-ACCESS:1
X-HITS:49
X-COLOR:3366cc
X-SHOW-END-TIME:1
END:VEVENT
BEGIN:VEVENT
DTSTART;TZID=Europe/Tallinn:20240418T110500
DTEND;TZID=Europe/Tallinn:20240418T120500
UID:7998E352-B44E-4671-AAD6-4231B049CEBC
SUMMARY:Inglise keele päev 5.-9. klass
CREATED:20240416T122251Z
DTSTAMP:20240416T122251Z
URL:https://kehtnakool.ee/component/dpcalendar/event/11?calid=9
X-ACCESS:1
X-HITS:67
X-COLOR:3366cc
X-SHOW-END-TIME:1
END:VEVENT
BEGIN:VEVENT
DTSTART;TZID=Europe/Tallinn:20240419T090000
DTEND;TZID=Europe/Tallinn:20240419T120000
UID:7DF8A989-B679-4E75-BFB7-E7067B5A6E6A
SUMMARY:Mälumängu III voor
CREATED:20240416T122324Z
DTSTAMP:20240416T122324Z
URL:https://kehtnakool.ee/component/dpcalendar/event/12?calid=9
X-ACCESS:1
X-HITS:85
X-COLOR:3366cc
X-SHOW-END-TIME:1
END:VEVENT
BEGIN:VEVENT
DTSTART;TZID=Europe/Tallinn:20240429T090000
DTEND;TZID=Europe/Tallinn:20240429T150000
UID:DED4EEE4-C70A-4734-B47B-5867FD92AFF5
SUMMARY:Kooli sünnipäev
CREATED:20240416T122400Z
DTSTAMP:20240416T122400Z
URL:https://kehtnakool.ee/component/dpcalendar/event/13?calid=9
X-ACCESS:1
X-HITS:317
X-COLOR:3366cc
X-SHOW-END-TIME:1
END:VEVENT
BEGIN:VEVENT
DTSTART;TZID=Europe/Tallinn:20240429T180000
DTEND;TZID=Europe/Tallinn:20240429T190000
UID:2953BBFC-5A7F-4A8D-B3BD-F7CFF3C3A230
SUMMARY:Eelkooli III kokkusaamine
CREATED:20240422T110842Z
DTSTAMP:20240422T110842Z
URL:https://kehtnakool.ee/component/dpcalendar/event/18?calid=9
X-ACCESS:1
X-HITS:127
X-COLOR:3366cc
X-SHOW-END-TIME:1
END:VEVENT
BEGIN:VEVENT
DTSTART;TZID=Europe/Tallinn:20240430T081000
DTEND;TZID=Europe/Tallinn:20240430T150000
UID:57448D12-EFAE-4FE9-962D-F79B483F5B58
SUMMARY:E-õppe päev
CREATED:20240422T110535Z
DTSTAMP:20240422T110535Z
URL:https://kehtnakool.ee/component/dpcalendar/event/17?calid=9
X-ACCESS:1
X-HITS:129
X-COLOR:3366cc
X-SHOW-END-TIME:1
END:VEVENT
BEGIN:VEVENT
DTSTART;TZID=Europe/Tallinn:20240502T090000
DTEND;TZID=Europe/Tallinn:20240502T150000
UID:EC335E51-7800-4714-957D-620FD73ACDBE
SUMMARY:Loovtööde kaitsmine
CREATED:20240416T121449Z
DTSTAMP:20240416T121449Z
URL:https://kehtnakool.ee/component/dpcalendar/event/9?calid=9
LAST-MODIFIED:20240416T122050Z
SEQUENCE:361
X-ACCESS:1
X-HITS:437
X-COLOR:3366cc
X-SHOW-END-TIME:1
END:VEVENT
BEGIN:VEVENT
DTSTART;TZID=Europe/Tallinn:20240503T180000
DTEND;TZID=Europe/Tallinn:20240503T200000
UID:84BAA979-5CC7-4C38-9D26-433D38DF9978
SUMMARY:Emadepäeva kontsert Kehtna Kutsehariduskeskuses
CREATED:20240416T122511Z
DTSTAMP:20240416T122511Z
URL:https://kehtnakool.ee/component/dpcalendar/event/15?calid=9
X-ACCESS:1
X-HITS:496
X-COLOR:3366cc
X-SHOW-END-TIME:1
END:VEVENT
BEGIN:VEVENT
DTSTART;TZID=Europe/Tallinn:20240510T081000
DTEND;TZID=Europe/Tallinn:20240510T150000
UID:89BF6490-4070-4F55-9E2E-4E1267311ABE
SUMMARY:Veidra koolikoti päev
CREATED:20240508T085644Z
DTSTAMP:20240508T085644Z
URL:https://kehtnakool.ee/component/dpcalendar/event/19?calid=9
X-ACCESS:1
X-HITS:61
X-COLOR:3366cc
X-SHOW-END-TIME:1
END:VEVENT
BEGIN:VEVENT
DTSTART;TZID=Europe/Tallinn:20240514T180000
DTEND;TZID=Europe/Tallinn:20240514T200000
UID:B603A9A8-8B6C-4A35-BD5A-4836D65998A9
SUMMARY:Lastevanemate üldkoosolek
CREATED:20240416T122542Z
DTSTAMP:20240416T122542Z
URL:https://kehtnakool.ee/component/dpcalendar/event/16?calid=9
LAST-MODIFIED:20240416T122554Z
SEQUENCE:12
X-ACCESS:1
X-HITS:470
X-COLOR:3366cc
X-SHOW-END-TIME:1
END:VEVENT
BEGIN:VEVENT
DTSTART;TZID=Europe/Tallinn:20240521T180000
DTEND;TZID=Europe/Tallinn:20240521T190000
UID:8C075AF4-400D-42B5-87F3-31251F2B693D
SUMMARY:Näiteringi etendus "Lotte reis Lõunamaale"
CREATED:20240516T064628Z
DTSTAMP:20240516T064628Z
URL:https://kehtnakool.ee/component/dpcalendar/event/25?calid=9
X-ACCESS:1
X-HITS:416
X-COLOR:3366cc
X-SHOW-END-TIME:1
END:VEVENT
BEGIN:VEVENT
DTSTART;VALUE=DATE:20240524
DTEND;VALUE=DATE:20240525
UID:DA6811FF-A141-4D62-8995-615FE9D7989C
SUMMARY:Tutipidu
CREATED:20240508T085835Z
DTSTAMP:20240508T085835Z
URL:https://kehtnakool.ee/component/dpcalendar/event/20?calid=9
X-ACCESS:1
X-HITS:377
X-COLOR:3366cc
X-SHOW-END-TIME:0
END:VEVENT
BEGIN:VEVENT
DTSTART;TZID=Europe/Tallinn:20240601T150000
DTEND;TZID=Europe/Tallinn:20240601T170000
UID:7B66EE48-07AE-463F-9917-135E8A4D2175
SUMMARY:Lastekaitsepäev Järvakandis
CREATED:20240516T064314Z
DTSTAMP:20240516T064314Z
URL:https://kehtnakool.ee/component/dpcalendar/event/24?calid=9
X-ACCESS:1
X-HITS:346
X-COLOR:3366cc
X-SHOW-END-TIME:1
END:VEVENT
BEGIN:VEVENT
DTSTART;VALUE=DATE:20240605
DTEND;VALUE=DATE:20240606
UID:4A0FF08E-AB28-48D2-99C3-17D102E7CE90
SUMMARY:Spordipäev
CREATED:20240508T085921Z
DTSTAMP:20240508T085921Z
URL:https://kehtnakool.ee/component/dpcalendar/event/21?calid=9
X-ACCESS:1
X-HITS:542
X-COLOR:3366cc
X-SHOW-END-TIME:0
END:VEVENT
BEGIN:VEVENT
DTSTART;TZID=Europe/Tallinn:20240612T081000
DTEND;TZID=Europe/Tallinn:20240612T094500
UID:EB344CBC-6CDD-42FD-8A4B-3C506960EF08
SUMMARY:Viimane koolipäev!
CREATED:20240606T122349Z
DTSTAMP:20240606T122349Z
URL:https://kehtnakool.ee/component/dpcalendar/event/26?calid=9
DESCRIPTION:Klassijuhatajatund ja aktus.
X-ALT-DESC;FMTTYPE=text/html:<p>Klassijuhatajatund ja aktus.</p>
X-ACCESS:1
X-HITS:299
X-COLOR:3366cc
X-SHOW-END-TIME:1
END:VEVENT
BEGIN:VEVENT
DTSTART;TZID=Europe/Tallinn:20240620T180000
DTEND;TZID=Europe/Tallinn:20240620T180000
UID:09427A32-FE1D-4F86-9821-8400C955D04E
SUMMARY:Lõpuaktus
CREATED:20240508T090201Z
DTSTAMP:20240508T090201Z
URL:https://kehtnakool.ee/component/dpcalendar/event/22?calid=9
LAST-MODIFIED:20240508T090237Z
SEQUENCE:36
X-ACCESS:1
X-HITS:1054
X-COLOR:3366cc
X-SHOW-END-TIME:0
END:VEVENT
BEGIN:VEVENT
DTSTART;TZID=Europe/Tallinn:20240901T110000
DTEND;TZID=Europe/Tallinn:20240901T120000
UID:6940A489-26F6-4283-A329-2839942E80D4
SUMMARY:Kehtna Põhikooli 24/25 õppeaasta avaaktus
CREATED:20240814T081208Z
DTSTAMP:20240814T081208Z
URL:https://kehtnakool.ee/component/dpcalendar/event/27?calid=9
X-ACCESS:1
X-HITS:207
X-COLOR:3366cc
X-SHOW-END-TIME:0
END:VEVENT
BEGIN:VEVENT
DTSTART;VALUE=DATE:20240923
DTEND;VALUE=DATE:20240924
UID:173EC6FE-0E44-4602-AA29-15CC1274941C
SUMMARY:Muusikapäev
CREATED:20240923T071151Z
DTSTAMP:20240923T071151Z
URL:https://kehtnakool.ee/component/dpcalendar/event/28?calid=9
X-ACCESS:1
X-HITS:0
X-COLOR:3366cc
X-SHOW-END-TIME:0
END:VEVENT
BEGIN:VEVENT
DTSTART;VALUE=DATE:20241003
DTEND;VALUE=DATE:20241004
UID:2867835A-EFBD-4B82-93A2-B919580A12EA
SUMMARY:Muusikapäev
CREATED:20240923T071245Z
DTSTAMP:20240923T071245Z
URL:https://kehtnakool.ee/component/dpcalendar/event/29?calid=9
X-ACCESS:1
X-HITS:213
X-COLOR:3366cc
X-SHOW-END-TIME:1
END:VEVENT
BEGIN:VEVENT
DTSTART;VALUE=DATE:20241004
DTEND;VALUE=DATE:20241005
UID:F0F2C210-CB5D-436B-879F-EFF522C069B1
SUMMARY:Õpetajate päev
CREATED:20240923T071334Z
DTSTAMP:20240923T071334Z
URL:https://kehtnakool.ee/component/dpcalendar/event/30?calid=9
X-ACCESS:1
X-HITS:365
X-COLOR:3366cc
X-SHOW-END-TIME:1
END:VEVENT
BEGIN:VEVENT
DTSTART;VALUE=DATE:20241004
DTEND;VALUE=DATE:20241005
UID:6954B0B6-F391-467F-90A2-F5402074BA2C
SUMMARY:Õpetajate päev
CREATED:20241004T083457Z
DTSTAMP:20241004T083457Z
URL:https://kehtnakool.ee/component/dpcalendar/event/32?calid=9
X-ACCESS:1
X-HITS:0
X-COLOR:3366cc
X-SHOW-END-TIME:1
END:VEVENT
BEGIN:VEVENT
DTSTART;VALUE=DATE:20241021
DTEND;VALUE=DATE:20241022
UID:7465BE9E-8648-44E9-85D5-4CB1CE67E647
SUMMARY:I koolivaheaeg 21.-27.10.2024.
CREATED:20241007T061501Z
DTSTAMP:20241007T061501Z
URL:https://kehtnakool.ee/component/dpcalendar/event/33?calid=9
LAST-MODIFIED:20241007T061640Z
SEQUENCE:99
X-ACCESS:1
X-HITS:289
X-COLOR:3366cc
X-SHOW-END-TIME:0
END:VEVENT
BEGIN:VEVENT
DTSTART;VALUE=DATE:20241031
DTEND;VALUE=DATE:20241101
UID:3051D077-7A58-4C19-91E7-450AAABE0695
SUMMARY:Halloweeni karneval
CREATED:20240923T073105Z
DTSTAMP:20240923T073105Z
URL:https://kehtnakool.ee/component/dpcalendar/event/31?calid=9
LAST-MODIFIED:20241028T085725Z
SEQUENCE:3029180
X-ACCESS:1
X-HITS:359
X-COLOR:3366cc
X-SHOW-END-TIME:1
END:VEVENT
BEGIN:VEVENT
DTSTART;VALUE=DATE:20241111
DTEND;VALUE=DATE:20241112
UID:EE6401CE-2007-4CBA-A967-AF4267E700F8
SUMMARY:Lipsupäev
CREATED:20241028T090348Z
DTSTAMP:20241028T090348Z
URL:https://kehtnakool.ee/component/dpcalendar/event/37?calid=9
X-ACCESS:1
X-HITS:216
X-COLOR:3366cc
X-SHOW-END-TIME:0
END:VEVENT
BEGIN:VEVENT
DTSTART;VALUE=DATE:20241114
DTEND;VALUE=DATE:20241115
UID:A977B093-0FBC-402F-A295-C17C970295B5
SUMMARY:Pildistamine
CREATED:20241028T085840Z
DTSTAMP:20241028T085840Z
URL:https://kehtnakool.ee/component/dpcalendar/event/34?calid=9
X-ACCESS:1
X-HITS:240
X-COLOR:3366cc
X-SHOW-END-TIME:0
END:VEVENT
BEGIN:VEVENT
DTSTART;VALUE=DATE:20241122
DTEND;VALUE=DATE:20241123
UID:5A7BFF6C-FD95-4172-BF33-3306D247EB31
SUMMARY:Mardi- ja kadripäeva karneval
CREATED:20241028T090126Z
DTSTAMP:20241028T090126Z
URL:https://kehtnakool.ee/component/dpcalendar/event/35?calid=9
X-ACCESS:1
X-HITS:299
X-COLOR:3366cc
X-SHOW-END-TIME:0
END:VEVENT
BEGIN:VEVENT
DTSTART;VALUE=DATE:20241126
DTEND;VALUE=DATE:20241127
UID:91E661A1-DFB3-49CC-904C-3C9CB5789C27
SUMMARY:Kodanikupäev
CREATED:20241028T090222Z
DTSTAMP:20241028T090222Z
URL:https://kehtnakool.ee/component/dpcalendar/event/36?calid=9
X-ACCESS:1
X-HITS:320
X-COLOR:3366cc
X-SHOW-END-TIME:0
END:VEVENT
BEGIN:VEVENT
DTSTART;VALUE=DATE:20241207
DTEND;VALUE=DATE:20241208
UID:AEE79DD9-8182-4A94-AE29-C87C9E048034
SUMMARY:Jõululaat
CREATED:20241125T100631Z
DTSTAMP:20241125T100631Z
URL:https://kehtnakool.ee/component/dpcalendar/event/38?calid=9
X-ACCESS:1
X-HITS:330
X-COLOR:3366cc
X-SHOW-END-TIME:0
END:VEVENT
BEGIN:VEVENT
DTSTART;VALUE=DATE:20241212
DTEND;VALUE=DATE:20241213
UID:26593F39-8642-4AF4-AC7A-8EF321631B02
SUMMARY:Jõulukontsert Peetri kirikus
CREATED:20241125T100717Z
DTSTAMP:20241125T100717Z
URL:https://kehtnakool.ee/component/dpcalendar/event/39?calid=9
X-ACCESS:1
X-HITS:185
X-COLOR:3366cc
X-SHOW-END-TIME:0
END:VEVENT
BEGIN:VEVENT
DTSTART;VALUE=DATE:20241218
DTEND;VALUE=DATE:20241219
UID:3E203653-1A5B-49FC-B33E-81D4BCBD6029
SUMMARY:Jõulupidu
CREATED:20241125T100824Z
DTSTAMP:20241125T100824Z
URL:https://kehtnakool.ee/component/dpcalendar/event/40?calid=9
X-ACCESS:1
X-HITS:191
X-COLOR:3366cc
X-SHOW-END-TIME:0
END:VEVENT
BEGIN:VEVENT
DTSTART;VALUE=DATE:20241223
DTEND;VALUE=DATE:20250106
UID:74EDE13B-0683-4E2F-AD2F-8BAB80CFDE17
SUMMARY:II koolivaheaeg 23.12.-05.01.2025
CREATED:20241125T101101Z
DTSTAMP:20241125T101101Z
URL:https://kehtnakool.ee/component/dpcalendar/event/41?calid=9
X-ACCESS:1
X-HITS:200
X-COLOR:3366cc
X-SHOW-END-TIME:0
END:VEVENT
BEGIN:VEVENT
DTSTART;VALUE=DATE:20250213
DTEND;VALUE=DATE:20250214
UID:F5F3770B-1149-4CE0-9E31-10BA59DBA3F0
SUMMARY:Sõbrapäev/Moebläkk
CREATED:20250212T081034Z
DTSTAMP:20250212T081034Z
URL:https://kehtnakool.ee/component/dpcalendar/event/42?calid=9
X-ACCESS:1
X-HITS:68
X-COLOR:3366cc
X-SHOW-END-TIME:0
END:VEVENT
BEGIN:VEVENT
DTSTART;VALUE=DATE:20250224
DTEND;VALUE=DATE:20250303
UID:AC829471-B872-4C47-A9B9-234AA23B4859
SUMMARY:III koolivaheaeg 24.02. - 02.03.2025
CREATED:20250212T081258Z
DTSTAMP:20250212T081258Z
URL:https://kehtnakool.ee/component/dpcalendar/event/43?calid=9
LAST-MODIFIED:20250212T081339Z
SEQUENCE:41
X-ACCESS:1
X-HITS:152
X-COLOR:3366cc
X-SHOW-END-TIME:0
END:VEVENT
BEGIN:VEVENT
DTSTART;VALUE=DATE:20250319
DTEND;VALUE=DATE:20250320
UID:96355691-9C57-4843-AACE-0FE7E68098C4
SUMMARY:Inseneeriapäev
CREATED:20250319T065916Z
DTSTAMP:20250319T065916Z
URL:https://kehtnakool.ee/component/dpcalendar/event/44?calid=9
X-ACCESS:1
X-HITS:0
X-COLOR:3366cc
X-SHOW-END-TIME:0
END:VEVENT
BEGIN:VEVENT
DTSTART;VALUE=DATE:20250319
DTEND;VALUE=DATE:20250320
UID:48CC2266-C81F-4FFF-8B03-E3CDE6D2F404
SUMMARY:Inseneeriapäev
CREATED:20250319T065951Z
DTSTAMP:20250319T065951Z
URL:https://kehtnakool.ee/component/dpcalendar/event/45?calid=9
X-ACCESS:1
X-HITS:0
X-COLOR:3366cc
X-SHOW-END-TIME:0
END:VEVENT
BEGIN:VEVENT
DTSTART;VALUE=DATE:20250414
DTEND;VALUE=DATE:20250421
UID:57B04414-F21F-4732-B52D-EF54C0924BB7
SUMMARY:IV koolivaheaeg 14.04 - 20.04.2025
CREATED:20250407T102100Z
DTSTAMP:20250407T102100Z
URL:https://kehtnakool.ee/component/dpcalendar/event/46?calid=9
LAST-MODIFIED:20250407T102309Z
SEQUENCE:129
X-ACCESS:1
X-HITS:156
X-COLOR:3366cc
X-SHOW-END-TIME:0
END:VEVENT
END:VCALENDAR